BEGIN:VCALENDAR
VERSION:2.0
PRODID:-//Superior Motorsports LLC - ECPv6.15.20//NONSGML v1.0//EN
CALSCALE:GREGORIAN
METHOD:PUBLISH
X-WR-CALNAME:Superior Motorsports LLC
X-ORIGINAL-URL:https://www.superiormotorsportllc.com
X-WR-CALDESC:Events for Superior Motorsports LLC
REFRESH-INTERVAL;VALUE=DURATION:PT1H
X-Robots-Tag:noindex
X-PUBLISHED-TTL:PT1H
BEGIN:VTIMEZONE
TZID:America/Detroit
BEGIN:DAYLIGHT
TZOFFSETFROM:-0500
TZOFFSETTO:-0400
TZNAME:EDT
DTSTART:20240310T070000
END:DAYLIGHT
BEGIN:STANDARD
TZOFFSETFROM:-0400
TZOFFSETTO:-0500
TZNAME:EST
DTSTART:20241103T060000
END:STANDARD
BEGIN:DAYLIGHT
TZOFFSETFROM:-0500
TZOFFSETTO:-0400
TZNAME:EDT
DTSTART:20250309T070000
END:DAYLIGHT
BEGIN:STANDARD
TZOFFSETFROM:-0400
TZOFFSETTO:-0500
TZNAME:EST
DTSTART:20251102T060000
END:STANDARD
BEGIN:DAYLIGHT
TZOFFSETFROM:-0500
TZOFFSETTO:-0400
TZNAME:EDT
DTSTART:20260308T070000
END:DAYLIGHT
BEGIN:STANDARD
TZOFFSETFROM:-0400
TZOFFSETTO:-0500
TZNAME:EST
DTSTART:20261101T060000
END:STANDARD
BEGIN:DAYLIGHT
TZOFFSETFROM:-0500
TZOFFSETTO:-0400
TZNAME:EDT
DTSTART:20270314T070000
END:DAYLIGHT
BEGIN:STANDARD
TZOFFSETFROM:-0400
TZOFFSETTO:-0500
TZNAME:EST
DTSTART:20271107T060000
END:STANDARD
END:VTIMEZONE
BEGIN:VEVENT
DTSTART;TZID=America/Detroit:20260813T190000
DTEND;TZID=America/Detroit:20260813T220000
DTSTAMP:20260424T023417
CREATED:20260329T002221Z
LAST-MODIFIED:20260329T002850Z
UID:735-1786647600-1786658400@www.superiormotorsportllc.com
SUMMARY:Sanilac County Fair PowerWheels & Multi Class Bump 'n' Run
DESCRIPTION:Enjoy an evening under the lights with friends while watching \nPower Wheels Fun for ages 3 to 10 \nfollowed by \nBump ‘n’ Run Racing with Spin Out Action \nat the Sanilac County Fair! \nBump ‘n’ Run Classes: Youth STK & MOD\, FWD STK & MOD. \nFor General Fair Information https://sanilacfair.org/ \nSuperior Motorsports enjoys providing entertaining\, adrenaline packed shows!\nFollow us at https://www.facebook.com/SuperiorMotorsports
URL:https://www.superiormotorsportllc.com/event/sanilac-county-fair-powerwheels-multi-class-bump-n-run/
LOCATION:Sanilac County Fair\, 210 North Dawson St\, Sandusky\, Michigan\, 48471
CATEGORIES:Bump 'n' Run,FWD Stock Class,MOD Class,Power Wheels,Stock Class,Youth Class
ATTACH;FMTTYPE=image/png:https://www.superiormotorsportllc.com/wp-content/uploads/2026/03/Sanilac-Fair.png
END:VEVENT
BEGIN:VEVENT
DTSTART;TZID=America/Detroit:20260725T170000
DTEND;TZID=America/Detroit:20260725T203000
DTSTAMP:20260424T023417
CREATED:20240111T101838Z
LAST-MODIFIED:20260411T200810Z
UID:96-1784998800-1785011400@www.superiormotorsportllc.com
SUMMARY:St. Clair 4-H Fair Power Wheels\, Figure 8 & Derby Finale
DESCRIPTION:Enjoy the Last Evening of the Fair Watching \n the Twisting\, Crossing Action \nof a Figure 8 Race\n&\nPower Wheels Fun for Ages 3 to 10\, \nplus Carnage in the Crater RWD Weld Demolition Derby Finale! \nFigure 8 Classes: Youth STK & MOD Bump ‘n’ Run\, FWD STK & MOD \nFor general fair information\, click http://stclaircounty4hfair.org \nSuperior Motorsports enjoys providing entertaining\, adrenaline packed shows!\nFollow us at https://www.facebook.com/SuperiorMotorsports
URL:https://www.superiormotorsportllc.com/event/figure-8-with-heats-power-wheels-youth-heat-fwd-stk-derby/
LOCATION:St. Clair County 4-H & Youth Fair\, 8201 Lapeer Road\, Goodells\, MI\, 48027\, United States
CATEGORIES:Bump 'n' Run,Demolition Derby,Figure 8,MOD Class,Powder Puff,Power Wheels,RWD Stock Class,Stock Class,Youth Class
ATTACH;FMTTYPE=image/jpeg:https://www.superiormotorsportllc.com/wp-content/uploads/2024/04/st-clair-4-h-logo.jpg
END:VEVENT
BEGIN:VEVENT
DTSTART;TZID=America/Detroit:20260724T190000
DTEND;TZID=America/Detroit:20260724T220000
DTSTAMP:20260424T023417
CREATED:20240113T020436Z
LAST-MODIFIED:20260413T140633Z
UID:125-1784919600-1784930400@www.superiormotorsportllc.com
SUMMARY:St. Clair 4-H Fair Power Wheels plus Multi Class Bump 'n' Run
DESCRIPTION:Enjoy a Night of Watching the \nSpin Out Action of a Bump ‘n’ Run \nplus Power Wheels Fun for ages 3-10! \n Bump ‘n’ Run Classes: Youth STK & MOD\, FWD STK & MOD. \nFor general fair information\, click https://stclaircounty4hfair.org/ \nSuperior Motorsports enjoys providing entertaining\, adrenaline packed shows!\nFollow us at https://www.facebook.com/SuperiorMotorsports
URL:https://www.superiormotorsportllc.com/event/power-wheels-plus-youth-stk-fwd-rwd-bump-n-run/
LOCATION:St. Clair County 4-H & Youth Fair\, 8201 Lapeer Road\, Goodells\, MI\, 48027\, United States
CATEGORIES:Bump 'n' Run,FWD Stock Class,MOD Class,Power Wheels,RWD Stock Class,Stock Class,Youth Class
ATTACH;FMTTYPE=image/jpeg:https://www.superiormotorsportllc.com/wp-content/uploads/2024/04/st-clair-4-h-logo.jpg
END:VEVENT
BEGIN:VEVENT
DTSTART;TZID=America/Detroit:20260722T190000
DTEND;TZID=America/Detroit:20260722T210000
DTSTAMP:20260424T023417
CREATED:20240113T015604Z
LAST-MODIFIED:20260123T043454Z
UID:122-1784746800-1784754000@www.superiormotorsportllc.com
SUMMARY:St. Clair 4-H Fair King & Queen of the Crater Bump 'n' Run
DESCRIPTION:Enjoy Watching a \n  Multi-Class Bump ‘n’ Run on an High Bank Oval track\nas they\nRace to be Stock & MOD King of the Crater\nplus\nPowder Puff Queen of the Crater! \nAdditional Classes include: Youth STK & MOD\, plus\,\nPower Wheels Fun for Ages 3 to 10. \nFor general fair information\, click http://stclaircounty4hfair.org \nSuperior Motorsports enjoys providing entertaining\, adrenaline packed shows!\nFollow us at https://www.facebook.com/SuperiorMotorsports
URL:https://www.superiormotorsportllc.com/event/3-man-team-bump-n-scram/
LOCATION:St. Clair County 4-H & Youth Fair\, 8201 Lapeer Road\, Goodells\, MI\, 48027\, United States
CATEGORIES:Bump 'n' Run,FWD Stock Class,MOD Class,Powder Puff,Power Wheels,Stock Class
ATTACH;FMTTYPE=image/jpeg:https://www.superiormotorsportllc.com/wp-content/uploads/2024/04/st-clair-4-h-logo.jpg
END:VEVENT
BEGIN:VEVENT
DTSTART;TZID=America/Detroit:20260719T140000
DTEND;TZID=America/Detroit:20260719T170000
DTSTAMP:20260424T023417
CREATED:20240113T022119Z
LAST-MODIFIED:20260319T035625Z
UID:130-1784469600-1784480400@www.superiormotorsportllc.com
SUMMARY:Minden City Lions Power Wheels\, Multi Class Bump 'n' Run & MWFA Derby Finale
DESCRIPTION:Enjoy Watching Races at the Park \nAs they Bump ‘n’ Spin Out\, \nAlong with Power Wheels Fun for Ages 3 to 10\, \nPlus a Smashing Demolition Derby (Superior Style!) \nto End the Afternoon! \nBump ‘n’ Run Classes: Powder Puff\, Youth STK & MOD\, FWD STK & MOD\nDerby: MWFA (Superior Style)\nNew Event time is 2PM. \nFor general event details\, please find them on FB @ Minden City Lions Club\nGeneral Admission is $10 / Pit Passes $20. \nSuperior Motorsports enjoys providing entertaining\, adrenaline packed shows!\nLike and follow the Superior Motorsports Face Book at https://www.facebook.com/SuperiorMotorsports
URL:https://www.superiormotorsportllc.com/event/power-wheels-multi-class-bump-n-run-plus-fwd-stk-derby-finale/
LOCATION:Minden City Francis Lautner Memorial Park\, 8500 3rd St\, Minden City\, MI\, 48456\, United States
CATEGORIES:Bump 'n' Run,Demolition Derby,FWD Stock Class,MFWA Derby (Superior Style),Power Wheels,Stock Class,Youth Class
ATTACH;FMTTYPE=image/jpeg:https://www.superiormotorsportllc.com/wp-content/uploads/2024/01/Minden-City-Lions-e1706845881977.jpg
END:VEVENT
BEGIN:VEVENT
DTSTART;TZID=America/Detroit:20260627T180000
DTEND;TZID=America/Detroit:20260627T220000
DTSTAMP:20260424T023417
CREATED:20240201T071311Z
LAST-MODIFIED:20260123T043000Z
UID:203-1782583200-1782597600@www.superiormotorsportllc.com
SUMMARY:North Branch Power Wheels\, FWD STK & FWD MOD Bump 'n' Run
DESCRIPTION:Enjoy Watching \nPower Wheels Fun for Kids ages 3 to 10 \nplus the Spin Out Action of a \nBump ‘n’ Run in the following Classes: \nFWD STK & FWD MOD\nat a New\, Earlier Time: 6PM \nGeneral Admission is sold by the North Branch Lions. It is $15/Adult\nPit Passes will be sold for $20 per person. \nSuperior Motorsports enjoys providing entertaining\, adrenaline packed shows!\nFollow us at https://www.facebook.com/SuperiorMotorsports \n 
URL:https://www.superiormotorsportllc.com/event/north-branch-power-wheels-plus-fwd-stk-mod-bump-n-run/
LOCATION:North Branch Lions Club of Michigan\, 6640 Beech St\, North Branch\, Michigan\, 48461
CATEGORIES:Bump 'n' Run,FWD Stock Class,MOD Class,Power Wheels,Stock Class
ATTACH;FMTTYPE=image/jpeg:https://www.superiormotorsportllc.com/wp-content/uploads/2024/02/North-Branch-Lions-e1706845724817.jpg
END:VEVENT
BEGIN:VEVENT
DTSTART;TZID=America/Detroit:20260613T160000
DTEND;TZID=America/Detroit:20260613T210000
DTSTAMP:20260424T023417
CREATED:20240222T070039Z
LAST-MODIFIED:20260123T041709Z
UID:235-1781366400-1781384400@www.superiormotorsportllc.com
SUMMARY:Brown City Days Power Wheels & Multi Class Bump 'n' Run
DESCRIPTION:Enjoy the afternoon with neighbors and friends while watching \nPower Wheels Fun for ages 3 to 10 \nfollowed by \nBump ‘n’ Run Racing with Spin Out Action \nat the Brown City Park! \nBump ‘n’ Run Classes: Youth STK & MOD\, Powder Puff\, FWD STK & MOD. \nDriver’s be advised that Main St will be closed during the Grand Parade.\nOnly Driver’s and car will be admitted into the park free. All other passengers will be charged a gate admission fee \nFor General Festival Information\, https://www.facebook.com/browncitydaysfestival\nand hosted by\, https://www.facebook.com/Browncityrotary \nSuperior Motorsports enjoys providing entertaining\, adrenaline packed shows!\nFollow us at https://www.facebook.com/SuperiorMotorsports
URL:https://www.superiormotorsportllc.com/event/brown-city-days-power-wheels-bump-n-run/
LOCATION:Brown City Days Festival\, 7140 Mcmorran St / 7175 Cade Road\, Brown City\, MI\, 48416\, United States
CATEGORIES:Bump 'n' Run,MOD Class,Powder Puff,Power Wheels,Stock Class,Youth Class
ATTACH;FMTTYPE=image/png:https://www.superiormotorsportllc.com/wp-content/uploads/2024/02/Brown-City-Festival.png
END:VEVENT
BEGIN:VEVENT
DTSTART;TZID=America/Detroit:20251011T120000
DTEND;TZID=America/Detroit:20251011T170000
DTSTAMP:20260424T023417
CREATED:20250823T145109Z
LAST-MODIFIED:20250923T184514Z
UID:669-1760184000-1760202000@www.superiormotorsportllc.com
SUMMARY:Minden City Fire Dept. Monster Bash Bump 'n' Run
DESCRIPTION:Support the\nMinden City Fire Association\nCharity Fundraiser\n&\nEnjoy an afternoon\nwith the Family watching\nBump ‘n’ Run Racing in the following classes:\nRC Bump ‘n’ Run Race – Bring your own radio-controlled car (Suggested RC Car is a Traxxas Slash with any body style)\nPower Wheels ages 3 to 10\nYouth Stock and MOD (ages 10 to 16)\nWins – 1st $150\, 2nd $75\, 3rd $50\nPowder Puff Heat Wins – 1st $100\, 2nd $50\, 3rd $25\nFWD Stock Wins – 1st $600\, 2nd $200\, 3rd $100\nFWD MOD Wins – 1st – $600\, 2nd – $200\, 3rd $100\nplus\,\n12PM – Trunk or Treat for the Kids\n&\nBest Girl and Boy Costume Award \nPits Open at 10am\nDriver’s Entry Fee for this event is $20 and 1 bag candy.\nPit Passes $20 \nGeneral Admission to this event will be $10 / under 3 Free\nAdmission includes the Trunk or Treat with the Driver’s in the Pits\, plus the race. \nConcessions will be available from the Minden City Fire Association. They will be grilling up hot dogs\, brats\, and more. \nLet’s bring family and friends and support the fellows that VOLUNTEER to keep us SAFE in our communities!\nLike and Share this on https://www.facebook.com/profile.php?id=61555143234692
URL:https://www.superiormotorsportllc.com/event/minden-city-fire-dept-monster-bash-bump-n-run/
LOCATION:Minden City Francis Lautner Memorial Park\, 8500 3rd St\, Minden City\, MI\, 48456\, United States
CATEGORIES:Bump 'n' Run,FWD Stock Class,MOD Class,Powder Puff,Power Wheels,Stock Class,Youth Class
END:VEVENT
BEGIN:VEVENT
DTSTART;TZID=America/Detroit:20250913T180000
DTEND;TZID=America/Detroit:20250913T220000
DTSTAMP:20260424T023417
CREATED:20250804T053426Z
LAST-MODIFIED:20250817T161009Z
UID:625-1757786400-1757800800@www.superiormotorsportllc.com
SUMMARY:Brown City Park Season Finale Bump 'n' Run Championship Race
DESCRIPTION:Presents:\nSuperior Motorsport’s Championship Bump ‘n’ Run Race\n  \nEnjoy car racing in the park\nas drivers compete to complete laps\nwhile bumping and getting spun out.\nRaces will begin at 6PM in the following classes:\nPower Wheels for ages 3 to 10\nYouth FWD Stock & MOD w/ heats & Feature\nPowder Puff\nFWD Stock & FWD MOD w/ Heats & Feature\n*A Rain Date has been set for this event as 9-14 at 6PM* \nGeneral Admission applies to this event and is $15.00 for ages 11 and up.\nAges 10 and under are free.\nPit area is separate and passes are $20.\nFor general event details\, please follow at https://www.facebook.com/Browncityrotary/ \nSuperior Motorsports enjoys providing entertaining\, adrenaline packed shows!\nLike and follow https://www.facebook.com/Superior Motorsports for all our up-to-date racing content including race results.
URL:https://www.superiormotorsportllc.com/event/brown-city-park-season-finale-bump-n-run-championship-race/
LOCATION:Brown City Park\, 7140 Mcmorran St / 7175 Cade Road\, Brown City\, MI\, 48416\, United States
CATEGORIES:Bump 'n' Run,FWD Stock Class,MOD Class,Powder Puff,Power Wheels,Stock Class,Youth Class
END:VEVENT
END:VCALENDAR